BEGIN:VCALENDAR
VERSION:2.0
PRODID:-//USC - ECPv5.0.2.1//NONSGML v1.0//EN
CALSCALE:GREGORIAN
METHOD:PUBLISH
X-WR-CALNAME:USC
X-ORIGINAL-URL:https://usc.edu.pk
X-WR-CALDESC:Events for USC
BEGIN:VTIMEZONE
TZID:UTC
BEGIN:STANDARD
TZOFFSETFROM:+0000
TZOFFSETTO:+0000
TZNAME:UTC
DTSTART:20190101T000000
END:STANDARD
END:VTIMEZONE
BEGIN:VEVENT
DTSTART;VALUE=DATE:20190617
DTEND;VALUE=DATE:20190629
DTSTAMP:20260425T140025
CREATED:20170309T083739Z
LAST-MODIFIED:20190114T080652Z
UID:628-1560729600-1561766399@usc.edu.pk
SUMMARY:Teaching Skills Masterclasses
DESCRIPTION:Etiam vitae leo et diam pellentesque porta. Sed eleifend ultricies risus\, vel rutrum erat commodo ut. Praesent finibus congue euismod. Nullam scelerisque massa vel augue placerat\, a tempor sem egestas. Curabitur placerat finibus lacus. Quisque at vehicula magna\, quis fringilla sapien. Ut interdum dictum ultricies. Aliquam facilisis purus non dui scelerisque\, bibendum vestibulum risus fermentum. Nam eget efficitur felis. Sed sollicitudin justo ut libero viverra\, sed efficitur erat finibus. Mauris nunc neque\, elementum id dignissim ut\, posuere sit amet dolor. Aliquam turpis neque\, mollis eu pharetra et\, placerat et arcu. Proin orci eros\, dapibus in auctor ac\, elementum a justo. Fusce varius eu nunc iaculis auctor. \nVivamus posuere tellus ac fringilla maximus. Maecenas ut diam nibh. Suspendisse venenatis et dolor sit amet malesuada. Cras a nisl in purus vestibulum facilisis. Aenean blandit\, lectus in dapibus interdum\, magna mauris fermentum risus\, nec iaculis ex quam ultricies tellus. Sed nec convallis ex\, nec tristique nisi. Aenean semper tempor vehicula. Duis id mi tristique\, pulvinar neque at\, lobortis tortor. \n
URL:https://usc.edu.pk/event/teaching-skills-masterclasses/
LOCATION:Location\, 350 5th Ave\, New York\, NY\, 10118\, United States
CATEGORIES:Events
ATTACH;FMTTYPE=image/jpeg:https://usc.edu.pk/wp-content/uploads/2017/02/post-8.jpg
ORGANIZER;CN="Mark%20Chapman":MAILTO:info@yoursite.com
END:VEVENT
END:VCALENDAR